{
 "currentVersion": 11.3,
 "serviceDescription": "ROW_Project/Excess_Property_December_2019_Item_1",
 "name": "ROW_Project/Excess_Property_December_2019_Item_1",
 "description": "",
 "extent": {
  "xmin": 420091.1153731431,
  "ymin": 4483372.642412412,
  "xmax": 420564.9117578714,
  "ymax": 4483889.113298305,
  "spatialReference": {
   "wkid": 26912,
   "latestWkid": 26912
  }
 },
 "initialExtent": {
  "xmin": 420091.1153731431,
  "ymin": 4483372.642412412,
  "xmax": 420564.9117578714,
  "ymax": 4483889.113298305,
  "spatialReference": {
   "wkid": 26912,
   "latestWkid": 26912
  }
 },
 "fullExtent": {
  "xmin": 420091.1153731431,
  "ymin": 4483372.642412412,
  "xmax": 420564.9117578714,
  "ymax": 4483889.113298305,
  "spatialReference": {
   "wkid": 26912,
   "latestWkid": 26912
  }
 },
 "sortableFields": "",
 "bandCount": 4,
 "pixelType": "S32",
 "minValues": [
  1,
  1,
  1,
  255
 ],
 "maxValues": [
  255,
  255,
  255,
  255
 ],
 "meanValues": [
  242.48883181007,
  240.1991486809,
  240.27408966968,
  255
 ],
 "stdvValues": [
  43.707881412808,
  48.03800795921,
  47.873397585193,
  0
 ],
 "hasMultidimensions": false,
 "pixelSizeX": 0.12157977539858374,
 "pixelSizeY": 0.12157977539861817,
 "meanPixelSize": 0.12157977539860096,
 "datasetFormat": "TIFF",
 "uncompressedSize": 264871296,
 "blockWidth": 128,
 "blockHeight": 128,
 "compressionType": "LZW",
 "bandNames": [
  "Band_1",
  "Band_2",
  "Band_3",
  "Band_4"
 ],
 "allowCopy": true,
 "allowAnalysis": true,
 "itemAccess": false,
 "inspectionCapabilities": "",
 "noDataValue": 256,
 "noDataValues": [
  256,
  256,
  256,
  256
 ],
 "minPixelSize": 0,
 "maxPixelSize": 0,
 "copyrightText": "",
 "serviceDataType": "esriImageServiceDataTypeGeneric",
 "serviceSourceType": "esriImageServiceSourceTypeDataset",
 "objectIdField": "",
 "fields": [],
 "capabilities": "Mensuration,Image,Metadata",
 "defaultMosaicMethod": "Center",
 "allowedMosaicMethods": "",
 "sortField": "",
 "sortValue": null,
 "sortAscending": true,
 "mosaicOperator": "First",
 "defaultCompressionQuality": 75,
 "defaultResamplingMethod": "Bilinear",
 "maxImageHeight": 4100,
 "maxImageWidth": 15000,
 "allowRasterFunction": true,
 "rasterFunctionInfos": [
  {
   "name": "None",
   "description": "",
   "help": ""
  }
 ],
 "rasterTypeInfos": [
  {
   "name": "Raster Dataset",
   "description": "Supports all ArcGIS Raster Datasets",
   "help": ""
  }
 ],
 "mensurationCapabilities": "Basic",
 "hasHistograms": true,
 "hasColormap": false,
 "hasRasterAttributeTable": false,
 "minScale": 0,
 "maxScale": 0,
 "exportTilesAllowed": false,
 "supportsStatistics": false,
 "supportsAdvancedQueries": false,
 "editFieldsInfo": null,
 "ownershipBasedAccessControlForRasters": null,
 "allowComputeTiePoints": false,
 "useStandardizedQueries": true,
 "advancedQueryCapabilities": {
  "useStandardizedQueries": true,
  "supportsStatistics": false,
  "supportsOrderBy": false,
  "supportsDistinct": false,
  "supportsPagination": false
 },
 "spatialReference": {
  "wkid": 26912,
  "latestWkid": 26912
 },
 "resampling": false
}
