{
 "currentVersion": 11.3,
 "serviceDescription": "ROW_Project/Excess_Property_December_2019_Item_4",
 "name": "ROW_Project/Excess_Property_December_2019_Item_4",
 "description": "",
 "extent": {
  "xmin": 1540010.7684894742,
  "ymin": 7394163.595873191,
  "xmax": 1542487.8045324525,
  "ymax": 7397803.310875541,
  "spatialReference": {
   "wkid": 102743,
   "latestWkid": 3566
  }
 },
 "initialExtent": {
  "xmin": 1540010.7684894742,
  "ymin": 7394163.595873191,
  "xmax": 1542487.8045324525,
  "ymax": 7397803.310875541,
  "spatialReference": {
   "wkid": 102743,
   "latestWkid": 3566
  }
 },
 "fullExtent": {
  "xmin": 1540010.7684894742,
  "ymin": 7394163.595873191,
  "xmax": 1542487.8045324525,
  "ymax": 7397803.310875541,
  "spatialReference": {
   "wkid": 102743,
   "latestWkid": 3566
  }
 },
 "sortableFields": "",
 "bandCount": 1,
 "pixelType": "U1",
 "minValues": [
  0
 ],
 "maxValues": [
  1
 ],
 "meanValues": [
  0.94564411848078
 ],
 "stdvValues": [
  0.22671859215288
 ],
 "hasMultidimensions": false,
 "pixelSizeX": 0.17201639187349227,
 "pixelSizeY": 0.3713994900356712,
 "meanPixelSize": 0.08281674603644859,
 "datasetFormat": "TIFF",
 "uncompressedSize": 17640000,
 "blockWidth": 128,
 "blockHeight": 128,
 "compressionType": "LZW",
 "bandNames": [
  "Band_1"
 ],
 "allowCopy": true,
 "allowAnalysis": true,
 "itemAccess": false,
 "inspectionCapabilities": "",
 "minPixelSize": 0,
 "maxPixelSize": 0,
 "copyrightText": "",
 "serviceDataType": "esriImageServiceDataTypeThematic",
 "serviceSourceType": "esriImageServiceSourceTypeDataset",
 "objectIdField": "",
 "fields": [],
 "capabilities": "Mensuration,Image,Metadata",
 "defaultMosaicMethod": "Center",
 "allowedMosaicMethods": "",
 "sortField": "",
 "sortValue": null,
 "sortAscending": true,
 "mosaicOperator": "First",
 "defaultCompressionQuality": 75,
 "defaultResamplingMethod": "Bilinear",
 "maxImageHeight": 4100,
 "maxImageWidth": 15000,
 "allowRasterFunction": true,
 "rasterFunctionInfos": [
  {
   "name": "None",
   "description": "",
   "help": ""
  }
 ],
 "rasterTypeInfos": [
  {
   "name": "Raster Dataset",
   "description": "Supports all ArcGIS Raster Datasets",
   "help": ""
  }
 ],
 "mensurationCapabilities": "Basic",
 "hasHistograms": true,
 "hasColormap": false,
 "hasRasterAttributeTable": false,
 "minScale": 0,
 "maxScale": 0,
 "exportTilesAllowed": false,
 "supportsStatistics": false,
 "supportsAdvancedQueries": false,
 "editFieldsInfo": null,
 "ownershipBasedAccessControlForRasters": null,
 "allowComputeTiePoints": false,
 "useStandardizedQueries": true,
 "advancedQueryCapabilities": {
  "useStandardizedQueries": true,
  "supportsStatistics": false,
  "supportsOrderBy": false,
  "supportsDistinct": false,
  "supportsPagination": false
 },
 "spatialReference": {
  "wkid": 102743,
  "latestWkid": 3566
 },
 "resampling": false
}
