{
 "currentVersion": 11.3,
 "serviceDescription": "ROW_Project/Excess_Property_February_2020_Item_3",
 "name": "ROW_Project/Excess_Property_February_2020_Item_3",
 "description": "",
 "extent": {
  "xmin": 1535684.165460079,
  "ymin": 7430049.160854221,
  "xmax": 1537282.7706347387,
  "ymax": 7431139.210467072,
  "spatialReference": {
   "wkid": 102743,
   "latestWkid": 3566
  }
 },
 "initialExtent": {
  "xmin": 1535684.165460079,
  "ymin": 7430049.160854221,
  "xmax": 1537282.7706347387,
  "ymax": 7431139.210467072,
  "spatialReference": {
   "wkid": 102743,
   "latestWkid": 3566
  }
 },
 "fullExtent": {
  "xmin": 1535684.165460079,
  "ymin": 7430049.160854221,
  "xmax": 1537282.7706347387,
  "ymax": 7431139.210467072,
  "spatialReference": {
   "wkid": 102743,
   "latestWkid": 3566
  }
 },
 "sortableFields": "",
 "bandCount": 4,
 "pixelType": "U8",
 "minValues": [
  0,
  0,
  0,
  255
 ],
 "maxValues": [
  255,
  255,
  255,
  255
 ],
 "meanValues": [
  240.70694732661,
  240.70694732661,
  240.70694732661,
  255
 ],
 "stdvValues": [
  58.304499337687,
  58.304499337687,
  58.304499337687,
  0
 ],
 "hasMultidimensions": false,
 "pixelSizeX": 0.3381144616454635,
 "pixelSizeY": 0.3381047186262041,
 "meanPixelSize": 0.10305600918542053,
 "datasetFormat": "TIFF",
 "uncompressedSize": 60972288,
 "blockWidth": 128,
 "blockHeight": 128,
 "compressionType": "LZW",
 "bandNames": [
  "Band_1",
  "Band_2",
  "Band_3",
  "Band_4"
 ],
 "allowCopy": true,
 "allowAnalysis": true,
 "itemAccess": false,
 "inspectionCapabilities": "",
 "minPixelSize": 0,
 "maxPixelSize": 0,
 "copyrightText": "",
 "serviceDataType": "esriImageServiceDataTypeGeneric",
 "serviceSourceType": "esriImageServiceSourceTypeDataset",
 "objectIdField": "",
 "fields": [],
 "capabilities": "Mensuration,Image,Metadata",
 "defaultMosaicMethod": "Center",
 "allowedMosaicMethods": "",
 "sortField": "",
 "sortValue": null,
 "sortAscending": true,
 "mosaicOperator": "First",
 "defaultCompressionQuality": 75,
 "defaultResamplingMethod": "Bilinear",
 "maxImageHeight": 4100,
 "maxImageWidth": 15000,
 "allowRasterFunction": true,
 "rasterFunctionInfos": [
  {
   "name": "None",
   "description": "",
   "help": ""
  }
 ],
 "rasterTypeInfos": [
  {
   "name": "Raster Dataset",
   "description": "Supports all ArcGIS Raster Datasets",
   "help": ""
  }
 ],
 "mensurationCapabilities": "Basic",
 "hasHistograms": true,
 "hasColormap": false,
 "hasRasterAttributeTable": false,
 "minScale": 0,
 "maxScale": 0,
 "exportTilesAllowed": false,
 "supportsStatistics": false,
 "supportsAdvancedQueries": false,
 "editFieldsInfo": null,
 "ownershipBasedAccessControlForRasters": null,
 "allowComputeTiePoints": false,
 "useStandardizedQueries": true,
 "advancedQueryCapabilities": {
  "useStandardizedQueries": true,
  "supportsStatistics": false,
  "supportsOrderBy": false,
  "supportsDistinct": false,
  "supportsPagination": false
 },
 "spatialReference": {
  "wkid": 102743,
  "latestWkid": 3566
 },
 "resampling": false
}
