{
 "currentVersion": 11.3,
 "serviceDescription": "ROW_Project/Excess_Property_February_2020_Item_7",
 "name": "ROW_Project/Excess_Property_February_2020_Item_7",
 "description": "",
 "extent": {
  "xmin": 412186.93393726135,
  "ymin": 4507946.724424497,
  "xmax": 412848.3697173714,
  "ymax": 4508919.7681773435,
  "spatialReference": {
   "wkid": 26912,
   "latestWkid": 26912
  }
 },
 "initialExtent": {
  "xmin": 412186.93393726135,
  "ymin": 4507946.724424497,
  "xmax": 412848.3697173714,
  "ymax": 4508919.7681773435,
  "spatialReference": {
   "wkid": 26912,
   "latestWkid": 26912
  }
 },
 "fullExtent": {
  "xmin": 412186.93393726135,
  "ymin": 4507946.724424497,
  "xmax": 412848.3697173714,
  "ymax": 4508919.7681773435,
  "spatialReference": {
   "wkid": 26912,
   "latestWkid": 26912
  }
 },
 "sortableFields": "",
 "bandCount": 4,
 "pixelType": "U8",
 "minValues": [
  24,
  0,
  4,
  255
 ],
 "maxValues": [
  255,
  255,
  255,
  255
 ],
 "meanValues": [
  234.18638415257,
  233.63761404119,
  233.65549843625,
  255
 ],
 "stdvValues": [
  49.077100911738,
  50.191582930158,
  50.281304463686,
  0
 ],
 "hasMultidimensions": false,
 "pixelSizeX": 0.40930431937504363,
 "pixelSizeY": 0.4109137469790152,
 "meanPixelSize": 0.4101090331770294,
 "datasetFormat": "TIFF",
 "uncompressedSize": 15306752,
 "blockWidth": 128,
 "blockHeight": 128,
 "compressionType": "LZW",
 "bandNames": [
  "Band_1",
  "Band_2",
  "Band_3",
  "Band_4"
 ],
 "allowCopy": true,
 "allowAnalysis": true,
 "itemAccess": false,
 "inspectionCapabilities": "",
 "minPixelSize": 0,
 "maxPixelSize": 0,
 "copyrightText": "",
 "serviceDataType": "esriImageServiceDataTypeGeneric",
 "serviceSourceType": "esriImageServiceSourceTypeDataset",
 "objectIdField": "",
 "fields": [],
 "capabilities": "Mensuration,Image,Metadata",
 "defaultMosaicMethod": "Center",
 "allowedMosaicMethods": "",
 "sortField": "",
 "sortValue": null,
 "sortAscending": true,
 "mosaicOperator": "First",
 "defaultCompressionQuality": 75,
 "defaultResamplingMethod": "Bilinear",
 "maxImageHeight": 4100,
 "maxImageWidth": 15000,
 "allowRasterFunction": true,
 "rasterFunctionInfos": [
  {
   "name": "None",
   "description": "",
   "help": ""
  }
 ],
 "rasterTypeInfos": [
  {
   "name": "Raster Dataset",
   "description": "Supports all ArcGIS Raster Datasets",
   "help": ""
  }
 ],
 "mensurationCapabilities": "Basic",
 "hasHistograms": true,
 "hasColormap": false,
 "hasRasterAttributeTable": false,
 "minScale": 0,
 "maxScale": 0,
 "exportTilesAllowed": false,
 "supportsStatistics": false,
 "supportsAdvancedQueries": false,
 "editFieldsInfo": null,
 "ownershipBasedAccessControlForRasters": null,
 "allowComputeTiePoints": false,
 "useStandardizedQueries": true,
 "advancedQueryCapabilities": {
  "useStandardizedQueries": true,
  "supportsStatistics": false,
  "supportsOrderBy": false,
  "supportsDistinct": false,
  "supportsPagination": false
 },
 "spatialReference": {
  "wkid": 26912,
  "latestWkid": 26912
 },
 "resampling": false
}
