{
 "currentVersion": 11.3,
 "serviceDescription": "ROW_Project/Excess_Property_March_2020_Item_6",
 "name": "ROW_Project/Excess_Property_March_2020_Item_6",
 "description": "",
 "extent": {
  "xmin": 1511785.7177704691,
  "ymin": 7366958.775497185,
  "xmax": 1513536.9195158486,
  "ymax": 7367631.353095917,
  "spatialReference": {
   "wkid": 102743,
   "latestWkid": 3566
  }
 },
 "initialExtent": {
  "xmin": 1511785.7177704691,
  "ymin": 7366958.775497185,
  "xmax": 1513536.9195158486,
  "ymax": 7367631.353095917,
  "spatialReference": {
   "wkid": 102743,
   "latestWkid": 3566
  }
 },
 "fullExtent": {
  "xmin": 1511785.7177704691,
  "ymin": 7366958.775497185,
  "xmax": 1513536.9195158486,
  "ymax": 7367631.353095917,
  "spatialReference": {
   "wkid": 102743,
   "latestWkid": 3566
  }
 },
 "sortableFields": "",
 "bandCount": 4,
 "pixelType": "U8",
 "minValues": [
  1,
  1,
  1,
  255
 ],
 "maxValues": [
  255,
  255,
  255,
  255
 ],
 "meanValues": [
  245.76067537422,
  245.76270256909,
  245.79369964965,
  255
 ],
 "stdvValues": [
  38.052672575351,
  38.052176186884,
  37.972233030259,
  0
 ],
 "hasMultidimensions": false,
 "pixelSizeX": 0.4032239800551424,
 "pixelSizeY": 0.40322398005513477,
 "meanPixelSize": 0.12290291492663612,
 "datasetFormat": "TIFF",
 "uncompressedSize": 28976496,
 "blockWidth": 128,
 "blockHeight": 128,
 "compressionType": "LZW",
 "bandNames": [
  "Band_1",
  "Band_2",
  "Band_3",
  "Band_4"
 ],
 "allowCopy": true,
 "allowAnalysis": true,
 "itemAccess": false,
 "inspectionCapabilities": "",
 "noDataValue": 0,
 "noDataValues": [
  0,
  0,
  0,
  0
 ],
 "minPixelSize": 0,
 "maxPixelSize": 0,
 "copyrightText": "",
 "serviceDataType": "esriImageServiceDataTypeGeneric",
 "serviceSourceType": "esriImageServiceSourceTypeDataset",
 "objectIdField": "",
 "fields": [],
 "capabilities": "Mensuration,Image,Metadata",
 "defaultMosaicMethod": "Center",
 "allowedMosaicMethods": "",
 "sortField": "",
 "sortValue": null,
 "sortAscending": true,
 "mosaicOperator": "First",
 "defaultCompressionQuality": 75,
 "defaultResamplingMethod": "Bilinear",
 "maxImageHeight": 4100,
 "maxImageWidth": 15000,
 "allowRasterFunction": true,
 "rasterFunctionInfos": [
  {
   "name": "None",
   "description": "",
   "help": ""
  }
 ],
 "rasterTypeInfos": [
  {
   "name": "Raster Dataset",
   "description": "Supports all ArcGIS Raster Datasets",
   "help": ""
  }
 ],
 "mensurationCapabilities": "Basic",
 "hasHistograms": true,
 "hasColormap": false,
 "hasRasterAttributeTable": false,
 "minScale": 0,
 "maxScale": 0,
 "exportTilesAllowed": false,
 "supportsStatistics": false,
 "supportsAdvancedQueries": false,
 "editFieldsInfo": null,
 "ownershipBasedAccessControlForRasters": null,
 "allowComputeTiePoints": false,
 "useStandardizedQueries": true,
 "advancedQueryCapabilities": {
  "useStandardizedQueries": true,
  "supportsStatistics": false,
  "supportsOrderBy": false,
  "supportsDistinct": false,
  "supportsPagination": false
 },
 "spatialReference": {
  "wkid": 102743,
  "latestWkid": 3566
 },
 "resampling": false
}
