{
 "currentVersion": 11.5,
 "serviceDescription": "Official Utah Highway Map 2021",
 "serviceItemId": "f560fb917eb7452b9f52dc5d08f785a2",
 "name": "StateMap/Official_Utah_Highway_Map",
 "description": "Official Utah Highway Map 2021",
 "extent": {
  "xmin": 201331.27242047404,
  "ymin": 3904336.1409478975,
  "xmax": 702336.96268507,
  "ymax": 4685587.177411418,
  "spatialReference": {
   "wkid": 26912,
   "latestWkid": 26912
  }
 },
 "initialExtent": {
  "xmin": 201331.27242047404,
  "ymin": 3904336.1409478975,
  "xmax": 702336.96268507,
  "ymax": 4685587.177411418,
  "spatialReference": {
   "wkid": 26912,
   "latestWkid": 26912
  }
 },
 "fullExtent": {
  "xmin": 201331.27242047404,
  "ymin": 3904336.1409478975,
  "xmax": 702336.96268507,
  "ymax": 4685587.177411418,
  "spatialReference": {
   "wkid": 26912,
   "latestWkid": 26912
  }
 },
 "sortableFields": "",
 "bandCount": 3,
 "pixelType": "U8",
 "minValues": [
  3,
  3,
  1
 ],
 "maxValues": [
  255,
  255,
  255
 ],
 "meanValues": [
  234.8885047088,
  228.98691757802,
  227.37311123711
 ],
 "stdvValues": [
  35.949439118365,
  48.09632933725,
  46.547278688871
 ],
 "serviceProperties": "Center<\/MosaicMethod>First<\/MosaicOperator>true<\/SortAscending><\/LockImageID><\/TileOrderField>0<\/TileOrderBase>0.000000<\/AvgImageSpacingX>0.000000<\/AvgImageSpacingY>0.0<\/ViewPointX>0.0<\/ViewPointY>0.0<\/ViewPointDefShiftX>0.0<\/ViewPointDefShiftY>None<\/CompressionMethod>75<\/CompressionQuality>0.010000<\/CompressionTolerance>Bilinear<\/SamplingMethod><\/ImageServiceProperties><\/ImageServer>",
 "allowedFields": "",
 "hasMultidimensions": false,
 "pixelSizeX": 85.30660484668755,
 "pixelSizeY": 82.97939845602984,
 "meanPixelSize": 84.1430016513587,
 "datasetFormat": "TIFF",
 "uncompressedSize": 165882885,
 "blockWidth": 5873,
 "blockHeight": 1,
 "compressionType": "LZW",
 "bandNames": [
  "Band_1",
  "Band_2",
  "Band_3"
 ],
 "allowCopy": true,
 "allowAnalysis": true,
 "itemAccess": false,
 "inspectionCapabilities": "",
 "minPixelSize": 0,
 "maxPixelSize": 0,
 "copyrightText": "UDOT-GIS",
 "serviceDataType": "esriImageServiceDataTypeRGB",
 "serviceSourceType": "esriImageServiceSourceTypeDataset",
 "objectIdField": "",
 "fields": [],
 "capabilities": "Image,Metadata,Mensuration",
 "defaultMosaicMethod": "Center",
 "allowedMosaicMethods": "",
 "sortField": "",
 "sortValue": null,
 "sortAscending": true,
 "mosaicOperator": "First",
 "defaultCompressionQuality": 75,
 "defaultResamplingMethod": "Bilinear",
 "maxImageHeight": 4100,
 "maxImageWidth": 15000,
 "allowRasterFunction": true,
 "rasterFunctionInfos": [
  {
   "name": "None",
   "description": "",
   "help": ""
  }
 ],
 "rasterTypeInfos": [
  {
   "name": "Raster Dataset",
   "description": "Supports all ArcGIS Raster Datasets",
   "help": ""
  }
 ],
 "mensurationCapabilities": "Basic",
 "hasHistograms": true,
 "hasColormap": false,
 "hasRasterAttributeTable": false,
 "minScale": 0,
 "maxScale": 0,
 "exportTilesAllowed": false,
 "supportsStatistics": false,
 "supportsAdvancedQueries": false,
 "editFieldsInfo": null,
 "ownershipBasedAccessControlForRasters": null,
 "allowComputeTiePoints": false,
 "useStandardizedQueries": true,
 "advancedQueryCapabilities": {
  "useStandardizedQueries": true,
  "supportsStatistics": false,
  "supportsOrderBy": false,
  "supportsDistinct": false,
  "supportsPagination": false
 },
 "spatialReference": {
  "wkid": 26912,
  "latestWkid": 26912
 }
}
