{
 "extent": {
  "ymin": 4428348.9956341777,
  "xmin": 386868.68789728737,
  "ymax": 4582763.4388654819,
  "xmax": 475048.61123435921,
  "spatialReference": {
   "latestWkid": 26912,
   "wkid": 26912
  }
 },
 "blockWidth": 4485,
 "mosaicOperator": "First",
 "serviceSourceType": "esriImageServiceSourceTypeDataset",
 "hasMultidimensions": false,
 "maxImageWidth": 15000,
 "meanValues": [],
 "hasColormap": false,
 "compressionType": "LZW",
 "defaultCompressionQuality": 75,
 "maxValues": [],
 "hasHistograms": false,
 "datasetFormat": "TIFF",
 "maxImageHeight": 4100,
 "sortField": "",
 "bandNames": [
  "Band_1",
  "Band_2",
  "Band_3"
 ],
 "spatialReference": {
  "latestWkid": 26912,
  "wkid": 26912
 },
 "fullExtent": {
  "ymin": 4428348.9956341777,
  "xmin": 386868.68789728737,
  "ymax": 4582763.4388654819,
  "xmax": 475048.61123435921,
  "spatialReference": {
   "latestWkid": 26912,
   "wkid": 26912
  }
 },
 "bandCount": 3,
 "rasterFunctionInfos": [
  {
   "help": "",
   "name": "None",
   "description": ""
  }
 ],
 "supportsStatistics": false,
 "sortableFields": "",
 "minValues": [],
 "allowRasterFunction": true,
 "allowComputeTiePoints": false,
 "serviceDataType": "esriImageServiceDataTypeRGB",
 "supportsAdvancedQueries": false,
 "currentVersion": 12.1,
 "sortValue": null,
 "objectIdField": "",
 "blockHeight": 1,
 "initialExtent": {
  "ymin": 4428348.9956341777,
  "xmin": 386868.68789728737,
  "ymax": 4582763.4388654819,
  "xmax": 475048.61123435921,
  "spatialReference": {
   "latestWkid": 26912,
   "wkid": 26912
  }
 },
 "pixelSizeX": 19.661075437474214,
 "pixelSizeY": 19.558510858936565,
 "defaultMosaicMethod": "Center",
 "name": "StateMap/Salt_Lake_Map_Tiff",
 "allowedMosaicMethods": "",
 "fields": [],
 "allowAnalysis": true,
 "hasRasterAttributeTable": false,
 "useStandardizedQueries": false,
 "description": "Salt Lake Area Inset Map 2021",
 "pixelType": "U8",
 "meanPixelSize": 19.609793148205391,
 "exportTilesAllowed": false,
 "editFieldsInfo": null,
 "rasterTypeInfos": [
  {
   "help": "",
   "name": "Raster Dataset",
   "description": "Supports all ArcGIS Raster Datasets"
  }
 ],
 "defaultResamplingMethod": "Bilinear",
 "itemAccess": false,
 "minScale": 0,
 "serviceProperties": "Center<\/MosaicMethod>First<\/MosaicOperator>true<\/SortAscending><\/LockImageID><\/TileOrderField>0<\/TileOrderBase>0.000000<\/AvgImageSpacingX>0.000000<\/AvgImageSpacingY>0.0<\/ViewPointX>0.0<\/ViewPointY>0.0<\/ViewPointDefShiftX>0.0<\/ViewPointDefShiftY>None<\/CompressionMethod>75<\/CompressionQuality>0.010000<\/CompressionTolerance>Bilinear<\/SamplingMethod><\/ImageServiceProperties><\/ImageServer>",
 "advancedQueryCapabilities": {
  "supportsStatistics": false,
  "supportsSqlExpression": false,
  "supportsOrderBy": false,
  "useStandardizedQueries": false,
  "supportsPagination": false,
  "supportsDistinct": false
 },
 "serviceItemId": "469519f5076a4ef790c97ca82b9152d6",
 "capabilities": "Image,Metadata,Mensuration",
 "maxScale": 0,
 "stdvValues": [],
 "allowedFields": "",
 "minPixelSize": 0,
 "sortAscending": true,
 "inspectionCapabilities": "",
 "maxPixelSize": 0,
 "allowedCompressions": "None,JPEG,LZ77,LERC",
 "uncompressedSize": 106227225,
 "serviceDescription": "Salt Lake Area Inset Map 2021",
 "allowCopy": true,
 "copyrightText": "UDOT-GIS",
 "mensurationCapabilities": "Basic",
 "ownershipBasedAccessControlForRasters": null
}
