View In:
ArcGIS JavaScript
ArcGIS Online Map Viewer
ArcGIS Earth
Service Description: ROW_Project/Excess_Property_August_2021_Item_5
Name: ROW_Project/Excess_Property_August_2021_Item_5
Description:
Single Fused Map Cache: false
Extent:
XMin: -111.87248471909072
YMin: 40.73991964047095
XMax: -111.87058418336501
YMax: 40.74184886122144
Spatial Reference: 4326
(4326)
VCSWkid(5773)
LatestVCSWkid(5773)
Initial Extent:
XMin: -111.87248471909072
YMin: 40.73991964047095
XMax: -111.87058418336501
YMax: 40.74184886122144
Spatial Reference: 4326
(4326)
VCSWkid(5773)
LatestVCSWkid(5773)
Full Extent:
XMin: -111.87248471909072
YMin: 40.73991964047095
XMax: -111.87058418336501
YMax: 40.74184886122144
Spatial Reference: 4326
(4326)
VCSWkid(5773)
LatestVCSWkid(5773)
Pixel Size X: 5.642920800801747E-7
Pixel Size Y: 3.6538271789590936E-7
Band Count: 4
Pixel Type: U8
RasterFunction Infos: {"rasterFunctionInfos": [{
"name": "None",
"description": "",
"help": ""
}]}
Mensuration Capabilities: Basic
Inspection Capabilities:
Has Histograms: false
Has Colormap: false
Has Multi Dimensions : false
Rendering Rule:
Min Scale: 0
Max Scale: 0
Resampling: false
Copyright Text:
Service Data Type: esriImageServiceDataTypeGeneric
Min Values: N/A
Max Values: N/A
Mean Values: N/A
Standard Deviation Values: N/A
Object ID Field:
Fields:
None
Default Mosaic Method: Center
Allowed Mosaic Methods:
SortField:
SortValue: null
Mosaic Operator: First
Default Compression Quality: 75
Default Resampling Method: Bilinear
Max Record Count: null
Max Image Height: 4100
Max Image Width: 15000
Max Download Image Count: null
Max Mosaic Image Count: null
Allow Raster Function: true
Allow Copy: true
Allow Analysis: true
Allow Compute TiePoints: false
Supports Statistics: false
Supports Advanced Queries: false
Use StandardizedQueries: true
Raster Type Infos:
Name: Raster Dataset
Description: Supports all ArcGIS Raster Datasets
Help:
Has Raster Attribute Table: false
Edit Fields Info: null
Ownership Based AccessControl For Rasters: null
Child Resources:
Info
Statistics
Key Properties
Legend
Raster Function Infos
Supported Operations:
Export Image
Identify
Measure
Compute Histograms
Compute Statistics Histograms
Get Samples
Compute Class Statistics
Query Boundary
Compute Pixel Location
Compute Angles
Validate
Project