View In:
ArcGIS JavaScript
ArcGIS Online Map Viewer
ArcGIS Earth
Service Description: ROW_Project/Excess_Property_December_2019_Item_2
Name: ROW_Project/Excess_Property_December_2019_Item_2
Description:
Single Fused Map Cache: false
Extent:
XMin: 417143.19940381177
YMin: 4490707.627118948
XMax: 417415.41848093964
YMax: 4491162.365220469
Spatial Reference: 26912
(26912)
LatestVCSWkid(0)
Initial Extent:
XMin: 417143.19940381177
YMin: 4490707.627118948
XMax: 417415.41848093964
YMax: 4491162.365220469
Spatial Reference: 26912
(26912)
LatestVCSWkid(0)
Full Extent:
XMin: 417143.19940381177
YMin: 4490707.627118948
XMax: 417415.41848093964
YMax: 4491162.365220469
Spatial Reference: 26912
(26912)
LatestVCSWkid(0)
Pixel Size X: 0.12475668062688783
Pixel Size Y: 0.12475668080151081
Band Count: 4
Pixel Type: U8
RasterFunction Infos: {"rasterFunctionInfos": [{
"name": "None",
"description": "",
"help": ""
}]}
Mensuration Capabilities: Basic
Inspection Capabilities:
Has Histograms: true
Has Colormap: false
Has Multi Dimensions : false
Rendering Rule:
Min Scale: 0
Max Scale: 0
Resampling: false
Copyright Text:
Service Data Type: esriImageServiceDataTypeGeneric
Min Values: 1, 1, 1, 255
Max Values: 255, 255, 255, 255
Mean Values: 240.93924078928, 240.12486777119, 240.12737538103, 255
Standard Deviation Values: 47.450600530951, 48.691768937898, 48.679731202193, 0
Object ID Field:
Fields:
None
Default Mosaic Method: Center
Allowed Mosaic Methods:
SortField:
SortValue: null
Mosaic Operator: First
Default Compression Quality: 75
Default Resampling Method: Bilinear
Max Record Count: null
Max Image Height: 4100
Max Image Width: 15000
Max Download Image Count: null
Max Mosaic Image Count: null
Allow Raster Function: true
Allow Copy: true
Allow Analysis: true
Allow Compute TiePoints: false
Supports Statistics: false
Supports Advanced Queries: false
Use StandardizedQueries: true
Raster Type Infos:
Name: Raster Dataset
Description: Supports all ArcGIS Raster Datasets
Help:
Has Raster Attribute Table: false
Edit Fields Info: null
Ownership Based AccessControl For Rasters: null
Child Resources:
Info
Histograms
Statistics
Key Properties
Legend
Raster Function Infos
Supported Operations:
Export Image
Identify
Measure
Compute Histograms
Compute Statistics Histograms
Get Samples
Compute Class Statistics
Query Boundary
Compute Pixel Location
Compute Angles
Validate
Project