View In:
ArcGIS JavaScript
ArcGIS Online Map Viewer
ArcGIS Earth
Service Description: ROW_Project/Excess_Property_February_2020_Item_12
Name: ROW_Project/Excess_Property_February_2020_Item_12
Description:
Single Fused Map Cache: false
Extent:
XMin: -111.91442498799488
YMin: 40.78421856034925
XMax: -111.9102826184099
YMax: 40.78907548029137
Spatial Reference: 4326
(4326)
VCSWkid(5773)
LatestVCSWkid(5773)
Initial Extent:
XMin: -111.91442498799488
YMin: 40.78421856034925
XMax: -111.9102826184099
YMax: 40.78907548029137
Spatial Reference: 4326
(4326)
VCSWkid(5773)
LatestVCSWkid(5773)
Full Extent:
XMin: -111.91442498799488
YMin: 40.78421856034925
XMax: -111.9102826184099
YMax: 40.78907548029137
Spatial Reference: 4326
(4326)
VCSWkid(5773)
LatestVCSWkid(5773)
Pixel Size X: 2.7913541677782547E-6
Pixel Size Y: 2.033886072914948E-6
Band Count: 4
Pixel Type: U8
RasterFunction Infos: {"rasterFunctionInfos": [{
"name": "None",
"description": "",
"help": ""
}]}
Mensuration Capabilities: Basic
Inspection Capabilities:
Has Histograms: true
Has Colormap: false
Has Multi Dimensions : false
Rendering Rule:
Min Scale: 0
Max Scale: 0
Resampling: false
Copyright Text:
Service Data Type: esriImageServiceDataTypeGeneric
Min Values: 0, 0, 0, 255
Max Values: 255, 255, 255, 255
Mean Values: 242.73044016128, 242.73044016128, 242.73044016128, 255
Standard Deviation Values: 43.271462774559, 43.271462774559, 43.271462774559, 0
Object ID Field:
Fields:
None
Default Mosaic Method: Center
Allowed Mosaic Methods:
SortField:
SortValue: null
Mosaic Operator: First
Default Compression Quality: 75
Default Resampling Method: Bilinear
Max Record Count: null
Max Image Height: 4100
Max Image Width: 15000
Max Download Image Count: null
Max Mosaic Image Count: null
Allow Raster Function: true
Allow Copy: true
Allow Analysis: true
Allow Compute TiePoints: false
Supports Statistics: false
Supports Advanced Queries: false
Use StandardizedQueries: true
Raster Type Infos:
Name: Raster Dataset
Description: Supports all ArcGIS Raster Datasets
Help:
Has Raster Attribute Table: false
Edit Fields Info: null
Ownership Based AccessControl For Rasters: null
Child Resources:
Info
Histograms
Statistics
Key Properties
Legend
Raster Function Infos
Supported Operations:
Export Image
Identify
Measure
Compute Histograms
Compute Statistics Histograms
Get Samples
Compute Class Statistics
Query Boundary
Compute Pixel Location
Compute Angles
Validate
Project