View In:
ArcGIS JavaScript
ArcGIS Online Map Viewer
ArcGIS Earth
Service Description: ROW_Project/Excess_Property_February_2020_Item_5
Name: ROW_Project/Excess_Property_February_2020_Item_5
Description:
Single Fused Map Cache: false
Extent:
XMin: 1493789.2780529258
YMin: 7422252.468579664
XMax: 1495258.057063637
YMax: 7423298.40717118
Spatial Reference: 102743
(3566)
LatestVCSWkid(0)
Initial Extent:
XMin: 1493789.2780529258
YMin: 7422252.468579664
XMax: 1495258.057063637
YMax: 7423298.40717118
Spatial Reference: 102743
(3566)
LatestVCSWkid(0)
Full Extent:
XMin: 1493789.2780529258
YMin: 7422252.468579664
XMax: 1495258.057063637
YMax: 7423298.40717118
Spatial Reference: 102743
(3566)
LatestVCSWkid(0)
Pixel Size X: 0.3332075795624405
Pixel Size Y: 0.33320757932960987
Band Count: 4
Pixel Type: U8
RasterFunction Infos: {"rasterFunctionInfos": [{
"name": "None",
"description": "",
"help": ""
}]}
Mensuration Capabilities: Basic
Inspection Capabilities:
Has Histograms: true
Has Colormap: false
Has Multi Dimensions : false
Rendering Rule:
Min Scale: 0
Max Scale: 0
Resampling: false
Copyright Text:
Service Data Type: esriImageServiceDataTypeGeneric
Min Values: 20, 3, 2, 255
Max Values: 255, 255, 255, 255
Mean Values: 235.43478586077, 233.34179201236, 233.35765410088, 255
Standard Deviation Values: 52.852561517888, 56.230723263687, 56.269865459956, 0
Object ID Field:
Fields:
None
Default Mosaic Method: Center
Allowed Mosaic Methods:
SortField:
SortValue: null
Mosaic Operator: First
Default Compression Quality: 75
Default Resampling Method: Bilinear
Max Record Count: null
Max Image Height: 4100
Max Image Width: 15000
Max Download Image Count: null
Max Mosaic Image Count: null
Allow Raster Function: true
Allow Copy: true
Allow Analysis: true
Allow Compute TiePoints: false
Supports Statistics: false
Supports Advanced Queries: false
Use StandardizedQueries: true
Raster Type Infos:
Name: Raster Dataset
Description: Supports all ArcGIS Raster Datasets
Help:
Has Raster Attribute Table: false
Edit Fields Info: null
Ownership Based AccessControl For Rasters: null
Child Resources:
Info
Histograms
Statistics
Key Properties
Legend
Raster Function Infos
Supported Operations:
Export Image
Identify
Measure
Compute Histograms
Compute Statistics Histograms
Get Samples
Compute Class Statistics
Query Boundary
Compute Pixel Location
Compute Angles
Validate
Project