View In:
ArcGIS JavaScript
ArcGIS Online Map Viewer
ArcGIS Earth
Service Description: ROW_Project/Excess_Property_February_2020_Item_9
Name: ROW_Project/Excess_Property_February_2020_Item_9
Description:
Single Fused Map Cache: false
Extent:
XMin: -1.2465215632815572E7
YMin: 4959070.689618674
XMax: -1.246483756377007E7
YMax: 4959334.973988673
Spatial Reference: 102100
(3857)
LatestVCSWkid(0)
Initial Extent:
XMin: -1.2465215632815572E7
YMin: 4959070.689618674
XMax: -1.246483756377007E7
YMax: 4959334.973988673
Spatial Reference: 102100
(3857)
LatestVCSWkid(0)
Full Extent:
XMin: -1.2465215632815572E7
YMin: 4959070.689618674
XMax: -1.246483756377007E7
YMax: 4959334.973988673
Spatial Reference: 102100
(3857)
LatestVCSWkid(0)
Pixel Size X: 0.16019874809357196
Pixel Size Y: 0.16517773124913218
Band Count: 4
Pixel Type: U8
RasterFunction Infos: {"rasterFunctionInfos": [{
"name": "None",
"description": "",
"help": ""
}]}
Mensuration Capabilities: Basic
Inspection Capabilities:
Has Histograms: true
Has Colormap: false
Has Multi Dimensions : false
Rendering Rule:
Min Scale: 0
Max Scale: 0
Resampling: false
Copyright Text:
Service Data Type: esriImageServiceDataTypeGeneric
Min Values: 21, 0, 0, 255
Max Values: 255, 255, 255, 255
Mean Values: 238.68919385592, 238.02833977754, 238.01807309323, 255
Standard Deviation Values: 49.36861442812, 50.703730471104, 50.822611971392, 0
Object ID Field:
Fields:
None
Default Mosaic Method: Center
Allowed Mosaic Methods:
SortField:
SortValue: null
Mosaic Operator: First
Default Compression Quality: 75
Default Resampling Method: Bilinear
Max Record Count: null
Max Image Height: 4100
Max Image Width: 15000
Max Download Image Count: null
Max Mosaic Image Count: null
Allow Raster Function: true
Allow Copy: true
Allow Analysis: true
Allow Compute TiePoints: false
Supports Statistics: false
Supports Advanced Queries: false
Use StandardizedQueries: true
Raster Type Infos:
Name: Raster Dataset
Description: Supports all ArcGIS Raster Datasets
Help:
Has Raster Attribute Table: false
Edit Fields Info: null
Ownership Based AccessControl For Rasters: null
Child Resources:
Info
Histograms
Statistics
Key Properties
Legend
Raster Function Infos
Supported Operations:
Export Image
Identify
Measure
Compute Histograms
Compute Statistics Histograms
Get Samples
Compute Class Statistics
Query Boundary
Compute Pixel Location
Compute Angles
Validate
Project