View In:
ArcGIS JavaScript
ArcGIS Online Map Viewer
ArcGIS Earth
Service Description: ROW_Project/Excess_Property_March_2020_Item_3
Name: ROW_Project/Excess_Property_March_2020_Item_3
Description:
Single Fused Map Cache: false
Extent:
XMin: 1665610.5015905516
YMin: 7402839.299252313
XMax: 1669210.6264572816
YMax: 7406805.707006666
Spatial Reference: 102743
(3566)
LatestVCSWkid(0)
Initial Extent:
XMin: 1665610.5015905516
YMin: 7402839.299252313
XMax: 1669210.6264572816
YMax: 7406805.707006666
Spatial Reference: 102743
(3566)
LatestVCSWkid(0)
Full Extent:
XMin: 1665610.5015905516
YMin: 7402839.299252313
XMax: 1669210.6264572816
YMax: 7406805.707006666
Spatial Reference: 102743
(3566)
LatestVCSWkid(0)
Pixel Size X: 0.2720360334539873
Pixel Size Y: 0.4654315600039014
Band Count: 1
Pixel Type: U1
RasterFunction Infos: {"rasterFunctionInfos": [{
"name": "None",
"description": "",
"help": ""
}]}
Mensuration Capabilities: Basic
Inspection Capabilities:
Has Histograms: true
Has Colormap: false
Has Multi Dimensions : false
Rendering Rule:
Min Scale: 0
Max Scale: 0
Resampling: false
Copyright Text:
Service Data Type: esriImageServiceDataTypeThematic
Min Values: 0
Max Values: 1
Mean Values: 0.8919624932573
Standard Deviation Values: 0.31042777700137
Object ID Field:
Fields:
None
Default Mosaic Method: Center
Allowed Mosaic Methods:
SortField:
SortValue: null
Mosaic Operator: First
Default Compression Quality: 75
Default Resampling Method: Bilinear
Max Record Count: null
Max Image Height: 4100
Max Image Width: 15000
Max Download Image Count: null
Max Mosaic Image Count: null
Allow Raster Function: true
Allow Copy: true
Allow Analysis: true
Allow Compute TiePoints: false
Supports Statistics: false
Supports Advanced Queries: false
Use StandardizedQueries: true
Raster Type Infos:
Name: Raster Dataset
Description: Supports all ArcGIS Raster Datasets
Help:
Has Raster Attribute Table: false
Edit Fields Info: null
Ownership Based AccessControl For Rasters: null
Child Resources:
Info
Histograms
Statistics
Key Properties
Legend
Raster Function Infos
Supported Operations:
Export Image
Identify
Measure
Compute Histograms
Compute Statistics Histograms
Get Samples
Compute Class Statistics
Query Boundary
Compute Pixel Location
Compute Angles
Validate
Project