View In:
ArcGIS JavaScript
ArcGIS Online Map Viewer
ArcGIS Earth
Service Description: ROW_Project/Excess_Property_March_2020_Item_5
Name: ROW_Project/Excess_Property_March_2020_Item_5
Description:
Single Fused Map Cache: false
Extent:
XMin: -112.02774724272398
YMin: 40.68049698575267
XMax: -112.02413508705457
YMax: 40.682786095101996
Spatial Reference: 4326
(4326)
VCSWkid(5773)
LatestVCSWkid(5773)
Initial Extent:
XMin: -112.02774724272398
YMin: 40.68049698575267
XMax: -112.02413508705457
YMax: 40.682786095101996
Spatial Reference: 4326
(4326)
VCSWkid(5773)
LatestVCSWkid(5773)
Full Extent:
XMin: -112.02774724272398
YMin: 40.68049698575267
XMax: -112.02413508705457
YMax: 40.682786095101996
Spatial Reference: 4326
(4326)
VCSWkid(5773)
LatestVCSWkid(5773)
Pixel Size X: 9.200600278658477E-7
Pixel Size Y: 9.200600278646037E-7
Band Count: 4
Pixel Type: U8
RasterFunction Infos: {"rasterFunctionInfos": [{
"name": "None",
"description": "",
"help": ""
}]}
Mensuration Capabilities: Basic
Inspection Capabilities:
Has Histograms: true
Has Colormap: false
Has Multi Dimensions : false
Rendering Rule:
Min Scale: 0
Max Scale: 0
Resampling: false
Copyright Text:
Service Data Type: esriImageServiceDataTypeGeneric
Min Values: 25, 8, 9, 255
Max Values: 255, 255, 255, 255
Mean Values: 238.34457532975, 237.1578202624, 237.12925032349, 255
Standard Deviation Values: 51.915203759911, 53.870399693903, 54.01571179025, 0
Object ID Field:
Fields:
None
Default Mosaic Method: Center
Allowed Mosaic Methods:
SortField:
SortValue: null
Mosaic Operator: First
Default Compression Quality: 75
Default Resampling Method: Bilinear
Max Record Count: null
Max Image Height: 4100
Max Image Width: 15000
Max Download Image Count: null
Max Mosaic Image Count: null
Allow Raster Function: true
Allow Copy: true
Allow Analysis: true
Allow Compute TiePoints: false
Supports Statistics: false
Supports Advanced Queries: false
Use StandardizedQueries: true
Raster Type Infos:
Name: Raster Dataset
Description: Supports all ArcGIS Raster Datasets
Help:
Has Raster Attribute Table: false
Edit Fields Info: null
Ownership Based AccessControl For Rasters: null
Child Resources:
Info
Histograms
Statistics
Key Properties
Legend
Raster Function Infos
Supported Operations:
Export Image
Identify
Measure
Compute Histograms
Compute Statistics Histograms
Get Samples
Compute Class Statistics
Query Boundary
Compute Pixel Location
Compute Angles
Validate
Project