View In:
ArcGIS JavaScript
ArcGIS Online Map Viewer
ArcGIS Earth
Service Description: Region2/Excess_Property_March_2021_Item_1A
Name: Region2/Excess_Property_March_2021_Item_1A
Description:
Single Fused Map Cache: false
Extent:
XMin: -1.2457972518848274E7
YMin: 4955942.34102947
XMax: -1.2457044263280865E7
YMax: 4957305.1115460815
Spatial Reference: 102100
(3857)
LatestVCSWkid(0)
Initial Extent:
XMin: -1.2457972518848274E7
YMin: 4955942.34102947
XMax: -1.2457044263280865E7
YMax: 4957305.1115460815
Spatial Reference: 102100
(3857)
LatestVCSWkid(0)
Full Extent:
XMin: -1.2457972518848274E7
YMin: 4955942.34102947
XMax: -1.2457044263280865E7
YMax: 4957305.1115460815
Spatial Reference: 102100
(3857)
LatestVCSWkid(0)
Pixel Size X: 0.2730163433556171
Pixel Size Y: 0.6194411439143799
Band Count: 3
Pixel Type: U8
RasterFunction Infos: {"rasterFunctionInfos": [{
"name": "None",
"description": "",
"help": ""
}]}
Mensuration Capabilities: Basic
Inspection Capabilities:
Has Histograms: true
Has Colormap: false
Has Multi Dimensions : false
Rendering Rule:
Min Scale: 0
Max Scale: 0
Resampling: false
Copyright Text:
Service Data Type: esriImageServiceDataTypeRGB
Min Values: 0, 0, 0
Max Values: 255, 255, 255
Mean Values: 236.14223333361, 235.79543544789, 235.79543544789
Standard Deviation Values: 56.102599921456, 56.769139979341, 56.769139979341
Object ID Field:
Fields:
None
Default Mosaic Method: Center
Allowed Mosaic Methods:
SortField:
SortValue: null
Mosaic Operator: First
Default Compression Quality: 75
Default Resampling Method: Bilinear
Max Record Count: null
Max Image Height: 4100
Max Image Width: 15000
Max Download Image Count: null
Max Mosaic Image Count: null
Allow Raster Function: true
Allow Copy: true
Allow Analysis: true
Allow Compute TiePoints: false
Supports Statistics: false
Supports Advanced Queries: false
Use StandardizedQueries: true
Raster Type Infos:
Name: Raster Dataset
Description: Supports all ArcGIS Raster Datasets
Help:
Has Raster Attribute Table: false
Edit Fields Info: null
Ownership Based AccessControl For Rasters: null
Child Resources:
Info
Histograms
Statistics
Key Properties
Legend
Raster Function Infos
Supported Operations:
Export Image
Identify
Measure
Compute Histograms
Compute Statistics Histograms
Get Samples
Compute Class Statistics
Query Boundary
Compute Pixel Location
Compute Angles
Validate
Project