View In:
ArcGIS JavaScript
ArcGIS Online Map Viewer
ArcGIS Earth
Service Description: St George Inset Map 2021
Name: StateMap/St_George_Tiff
Description: St George Inset Map 2021
Single Fused Map Cache: false
Extent:
XMin: 259997.73582496206
YMin: 4097522.85623726
XMax: 281594.53915776743
YMax: 4119639.6897036363
Spatial Reference: 26912
(26912)
Initial Extent:
XMin: 259997.73582496206
YMin: 4097522.85623726
XMax: 281594.53915776743
YMax: 4119639.6897036363
Spatial Reference: 26912
(26912)
Full Extent:
XMin: 259997.73582496206
YMin: 4097522.85623726
XMax: 281594.53915776743
YMax: 4119639.6897036363
Spatial Reference: 26912
(26912)
Pixel Size X: 7.343353734377889
Pixel Size Y: 7.31618705470598
Band Count: 3
Pixel Type: U8
RasterFunction Infos: {"rasterFunctionInfos": [{
"help": "",
"name": "None",
"description": ""
}]}
Mensuration Capabilities: Basic
Inspection Capabilities:
Has Histograms: false
Has Colormap: false
Has Multi Dimensions : false
Rendering Rule:
Min Scale: 0
Max Scale: 0
Copyright Text: UDOT-GIS
Service Data Type: esriImageServiceDataTypeRGB
Min Values: N/A
Max Values: N/A
Mean Values: N/A
Standard Deviation Values: N/A
Object ID Field:
Fields:
None
Default Mosaic Method: Center
Allowed Mosaic Methods:
SortField:
SortValue: N/A
Mosaic Operator: First
Default Compression Quality: 75
Default Resampling Method: Bilinear
Max Record Count: null
Max Image Height: 4100
Max Image Width: 15000
Max Download Image Count: null
Max Mosaic Image Count: null
Allow Raster Function: true
Allow Copy: true
Allow Analysis: true
Allow Compute TiePoints: false
Supports Statistics: false
Supports Advanced Queries: false
Use StandardizedQueries: false
Raster Type Infos:
Name: Raster Dataset
Description: Supports all ArcGIS Raster Datasets
Help:
Has Raster Attribute Table: false
Edit Fields Info: N/A
Ownership Based AccessControl For Rasters: N/A
Child Resources:
Info
Statistics
Key Properties
Legend
Raster Function Infos
Supported Operations:
Export Image
Identify
Measure
Compute Histograms
Compute Statistics Histograms
Get Samples
Compute Class Statistics
Query Boundary
Compute Pixel Location
Compute Angles
Validate
Project