View In:
ArcGIS JavaScript
ArcGIS Online Map Viewer
ArcGIS Earth
Service Description: ROW_Project/Excess_Property_December_2019_Item_1
Name: ROW_Project/Excess_Property_December_2019_Item_1
Description:
Single Fused Map Cache: false
Extent:
XMin: 420091.1153731431
YMin: 4483372.642412412
XMax: 420564.9117578714
YMax: 4483889.113298305
Spatial Reference: 26912
(26912)
LatestVCSWkid(0)
Initial Extent:
XMin: 420091.1153731431
YMin: 4483372.642412412
XMax: 420564.9117578714
YMax: 4483889.113298305
Spatial Reference: 26912
(26912)
LatestVCSWkid(0)
Full Extent:
XMin: 420091.1153731431
YMin: 4483372.642412412
XMax: 420564.9117578714
YMax: 4483889.113298305
Spatial Reference: 26912
(26912)
LatestVCSWkid(0)
Pixel Size X: 0.12157977539858374
Pixel Size Y: 0.12157977539861817
Band Count: 4
Pixel Type: S32
RasterFunction Infos: {"rasterFunctionInfos": [{
"name": "None",
"description": "",
"help": ""
}]}
Mensuration Capabilities: Basic
Inspection Capabilities:
Has Histograms: true
Has Colormap: false
Has Multi Dimensions : false
Rendering Rule:
Min Scale: 0
Max Scale: 0
Resampling: false
Copyright Text:
Service Data Type: esriImageServiceDataTypeGeneric
Min Values: 1, 1, 1, 255
Max Values: 255, 255, 255, 255
Mean Values: 242.48883181007, 240.1991486809, 240.27408966968, 255
Standard Deviation Values: 43.707881412808, 48.03800795921, 47.873397585193, 0
Object ID Field:
Fields:
None
Default Mosaic Method: Center
Allowed Mosaic Methods:
SortField:
SortValue: null
Mosaic Operator: First
Default Compression Quality: 75
Default Resampling Method: Bilinear
Max Record Count: null
Max Image Height: 4100
Max Image Width: 15000
Max Download Image Count: null
Max Mosaic Image Count: null
Allow Raster Function: true
Allow Copy: true
Allow Analysis: true
Allow Compute TiePoints: false
Supports Statistics: false
Supports Advanced Queries: false
Use StandardizedQueries: true
Raster Type Infos:
Name: Raster Dataset
Description: Supports all ArcGIS Raster Datasets
Help:
Has Raster Attribute Table: false
Edit Fields Info: null
Ownership Based AccessControl For Rasters: null
Child Resources:
Info
Histograms
Statistics
Key Properties
Legend
Raster Function Infos
Supported Operations:
Export Image
Identify
Measure
Compute Histograms
Compute Statistics Histograms
Get Samples
Compute Class Statistics
Query Boundary
Compute Pixel Location
Compute Angles
Validate
Project