View In:
ArcGIS JavaScript
ArcGIS Online Map Viewer
ArcGIS Earth
Service Description: ROW_Project/Excess_Property_December_2019_Item_4
Name: ROW_Project/Excess_Property_December_2019_Item_4
Description:
Single Fused Map Cache: false
Extent:
XMin: 1540010.7684894742
YMin: 7394163.595873191
XMax: 1542487.8045324525
YMax: 7397803.310875541
Spatial Reference: 102743
(3566)
LatestVCSWkid(0)
Initial Extent:
XMin: 1540010.7684894742
YMin: 7394163.595873191
XMax: 1542487.8045324525
YMax: 7397803.310875541
Spatial Reference: 102743
(3566)
LatestVCSWkid(0)
Full Extent:
XMin: 1540010.7684894742
YMin: 7394163.595873191
XMax: 1542487.8045324525
YMax: 7397803.310875541
Spatial Reference: 102743
(3566)
LatestVCSWkid(0)
Pixel Size X: 0.17201639187349227
Pixel Size Y: 0.3713994900356712
Band Count: 1
Pixel Type: U1
RasterFunction Infos: {"rasterFunctionInfos": [{
"name": "None",
"description": "",
"help": ""
}]}
Mensuration Capabilities: Basic
Inspection Capabilities:
Has Histograms: true
Has Colormap: false
Has Multi Dimensions : false
Rendering Rule:
Min Scale: 0
Max Scale: 0
Resampling: false
Copyright Text:
Service Data Type: esriImageServiceDataTypeThematic
Min Values: 0
Max Values: 1
Mean Values: 0.94564411848078
Standard Deviation Values: 0.22671859215288
Object ID Field:
Fields:
None
Default Mosaic Method: Center
Allowed Mosaic Methods:
SortField:
SortValue: null
Mosaic Operator: First
Default Compression Quality: 75
Default Resampling Method: Bilinear
Max Record Count: null
Max Image Height: 4100
Max Image Width: 15000
Max Download Image Count: null
Max Mosaic Image Count: null
Allow Raster Function: true
Allow Copy: true
Allow Analysis: true
Allow Compute TiePoints: false
Supports Statistics: false
Supports Advanced Queries: false
Use StandardizedQueries: true
Raster Type Infos:
Name: Raster Dataset
Description: Supports all ArcGIS Raster Datasets
Help:
Has Raster Attribute Table: false
Edit Fields Info: null
Ownership Based AccessControl For Rasters: null
Child Resources:
Info
Histograms
Statistics
Key Properties
Legend
Raster Function Infos
Supported Operations:
Export Image
Identify
Measure
Compute Histograms
Compute Statistics Histograms
Get Samples
Compute Class Statistics
Query Boundary
Compute Pixel Location
Compute Angles
Validate
Project