View In:
ArcGIS JavaScript
ArcGIS Online Map Viewer
ArcGIS Earth
Service Description: ROW_Project/Excess_Property_February_2020_Item_7
Name: ROW_Project/Excess_Property_February_2020_Item_7
Description:
Single Fused Map Cache: false
Extent:
XMin: 412186.93393726135
YMin: 4507946.724424497
XMax: 412848.3697173714
YMax: 4508919.7681773435
Spatial Reference: 26912
(26912)
LatestVCSWkid(0)
Initial Extent:
XMin: 412186.93393726135
YMin: 4507946.724424497
XMax: 412848.3697173714
YMax: 4508919.7681773435
Spatial Reference: 26912
(26912)
LatestVCSWkid(0)
Full Extent:
XMin: 412186.93393726135
YMin: 4507946.724424497
XMax: 412848.3697173714
YMax: 4508919.7681773435
Spatial Reference: 26912
(26912)
LatestVCSWkid(0)
Pixel Size X: 0.40930431937504363
Pixel Size Y: 0.4109137469790152
Band Count: 4
Pixel Type: U8
RasterFunction Infos: {"rasterFunctionInfos": [{
"name": "None",
"description": "",
"help": ""
}]}
Mensuration Capabilities: Basic
Inspection Capabilities:
Has Histograms: true
Has Colormap: false
Has Multi Dimensions : false
Rendering Rule:
Min Scale: 0
Max Scale: 0
Resampling: false
Copyright Text:
Service Data Type: esriImageServiceDataTypeGeneric
Min Values: 24, 0, 4, 255
Max Values: 255, 255, 255, 255
Mean Values: 234.18638415257, 233.63761404119, 233.65549843625, 255
Standard Deviation Values: 49.077100911738, 50.191582930158, 50.281304463686, 0
Object ID Field:
Fields:
None
Default Mosaic Method: Center
Allowed Mosaic Methods:
SortField:
SortValue: null
Mosaic Operator: First
Default Compression Quality: 75
Default Resampling Method: Bilinear
Max Record Count: null
Max Image Height: 4100
Max Image Width: 15000
Max Download Image Count: null
Max Mosaic Image Count: null
Allow Raster Function: true
Allow Copy: true
Allow Analysis: true
Allow Compute TiePoints: false
Supports Statistics: false
Supports Advanced Queries: false
Use StandardizedQueries: true
Raster Type Infos:
Name: Raster Dataset
Description: Supports all ArcGIS Raster Datasets
Help:
Has Raster Attribute Table: false
Edit Fields Info: null
Ownership Based AccessControl For Rasters: null
Child Resources:
Info
Histograms
Statistics
Key Properties
Legend
Raster Function Infos
Supported Operations:
Export Image
Identify
Measure
Compute Histograms
Compute Statistics Histograms
Get Samples
Compute Class Statistics
Query Boundary
Compute Pixel Location
Compute Angles
Validate
Project