View In:
ArcGIS JavaScript
ArcGIS Online Map Viewer
ArcGIS Earth
Service Description: ROW_Project/Excess_Property_March_2020_Item_6
Name: ROW_Project/Excess_Property_March_2020_Item_6
Description:
Single Fused Map Cache: false
Extent:
XMin: 1511785.7177704691
YMin: 7366958.775497185
XMax: 1513536.9195158486
YMax: 7367631.353095917
Spatial Reference: 102743
(3566)
LatestVCSWkid(0)
Initial Extent:
XMin: 1511785.7177704691
YMin: 7366958.775497185
XMax: 1513536.9195158486
YMax: 7367631.353095917
Spatial Reference: 102743
(3566)
LatestVCSWkid(0)
Full Extent:
XMin: 1511785.7177704691
YMin: 7366958.775497185
XMax: 1513536.9195158486
YMax: 7367631.353095917
Spatial Reference: 102743
(3566)
LatestVCSWkid(0)
Pixel Size X: 0.4032239800551424
Pixel Size Y: 0.40322398005513477
Band Count: 4
Pixel Type: U8
RasterFunction Infos: {"rasterFunctionInfos": [{
"name": "None",
"description": "",
"help": ""
}]}
Mensuration Capabilities: Basic
Inspection Capabilities:
Has Histograms: true
Has Colormap: false
Has Multi Dimensions : false
Rendering Rule:
Min Scale: 0
Max Scale: 0
Resampling: false
Copyright Text:
Service Data Type: esriImageServiceDataTypeGeneric
Min Values: 1, 1, 1, 255
Max Values: 255, 255, 255, 255
Mean Values: 245.76067537422, 245.76270256909, 245.79369964965, 255
Standard Deviation Values: 38.052672575351, 38.052176186884, 37.972233030259, 0
Object ID Field:
Fields:
None
Default Mosaic Method: Center
Allowed Mosaic Methods:
SortField:
SortValue: null
Mosaic Operator: First
Default Compression Quality: 75
Default Resampling Method: Bilinear
Max Record Count: null
Max Image Height: 4100
Max Image Width: 15000
Max Download Image Count: null
Max Mosaic Image Count: null
Allow Raster Function: true
Allow Copy: true
Allow Analysis: true
Allow Compute TiePoints: false
Supports Statistics: false
Supports Advanced Queries: false
Use StandardizedQueries: true
Raster Type Infos:
Name: Raster Dataset
Description: Supports all ArcGIS Raster Datasets
Help:
Has Raster Attribute Table: false
Edit Fields Info: null
Ownership Based AccessControl For Rasters: null
Child Resources:
Info
Histograms
Statistics
Key Properties
Legend
Raster Function Infos
Supported Operations:
Export Image
Identify
Measure
Compute Histograms
Compute Statistics Histograms
Get Samples
Compute Class Statistics
Query Boundary
Compute Pixel Location
Compute Angles
Validate
Project